BEGIN:VCALENDAR
VERSION:2.0
PRODID:-//Bathtoberfest - ECPv6.6.4.2//NONSGML v1.0//EN
CALSCALE:GREGORIAN
METHOD:PUBLISH
X-ORIGINAL-URL:https://bathtoberfest.com
X-WR-CALDESC:Events for Bathtoberfest
REFRESH-INTERVAL;VALUE=DURATION:PT1H
X-Robots-Tag:noindex
X-PUBLISHED-TTL:PT1H
BEGIN:VTIMEZONE
TZID:UTC
BEGIN:STANDARD
TZOFFSETFROM:+0000
TZOFFSETTO:+0000
TZNAME:UTC
DTSTART:20230101T000000
END:STANDARD
END:VTIMEZONE
BEGIN:VEVENT
DTSTART;VALUE=DATE:20231006
DTEND;VALUE=DATE:20231007
DTSTAMP:20260423T045100
CREATED:20230926T135538Z
LAST-MODIFIED:20230926T135538Z
UID:10000004-1696550400-1696636799@bathtoberfest.com
SUMMARY:Wine Tasting
DESCRIPTION:
URL:https://bathtoberfest.com/event/wine-tasting/
LOCATION:Wolf Wine\, Green Park Station\, Bath\, BA1 1JB\, United Kingdom
END:VEVENT
END:VCALENDAR