BEGIN:VCALENDAR
VERSION:2.0
PRODID:-//Bathtoberfest - ECPv6.6.4.2//NONSGML v1.0//EN
CALSCALE:GREGORIAN
METHOD:PUBLISH
X-ORIGINAL-URL:https://bathtoberfest.com
X-WR-CALDESC:Events for Bathtoberfest
REFRESH-INTERVAL;VALUE=DURATION:PT1H
X-Robots-Tag:noindex
X-PUBLISHED-TTL:PT1H
BEGIN:VTIMEZONE
TZID:UTC
BEGIN:STANDARD
TZOFFSETFROM:+0000
TZOFFSETTO:+0000
TZNAME:UTC
DTSTART:20230101T000000
END:STANDARD
END:VTIMEZONE
BEGIN:VEVENT
DTSTART;TZID=UTC:20231007T200000
DTEND;TZID=UTC:20231007T233000
DTSTAMP:20260423T075408
CREATED:20230927T140704Z
LAST-MODIFIED:20230929T152204Z
UID:10000011-1696708800-1696721400@bathtoberfest.com
SUMMARY:Young\, Loud And Snotty Club Night @ The Royal Oak
DESCRIPTION:Young\, Loud and Snotty is a club night for brats of all ages. We play Junkshop Glam\, Power Pop\, New Wave\, Mod Revival and Punk. In fact\, we play anything that’s rock’n’roll\, as long as it’s Y\, L & S! \nYou could meet a kindred spirit. Who needs a cheap night out when you can have a free one on us! \nSalutations and a bucket of green snot to you all!\nL.U.V.\nY\,L&S xxx
URL:https://bathtoberfest.com/event/young-loud-and-snotty-club-night-the-royal-oak/
LOCATION:The Royal Oak\, Lower Bristol Rd\, Bath\, BA2 3BW\, United Kingdom
ATTACH;FMTTYPE=image/jpeg:https://bathtoberfest.com/wp-content/uploads/2023/09/young-loud-snot.jpg
END:VEVENT
BEGIN:VEVENT
DTSTART;TZID=UTC:20231006T190000
DTEND;TZID=UTC:20231006T210000
DTSTAMP:20260423T075408
CREATED:20230927T140202Z
LAST-MODIFIED:20230929T152258Z
UID:10000010-1696618800-1696626000@bathtoberfest.com
SUMMARY:Ant Trouble @ The Royal Oak
DESCRIPTION:★ Ant-Trouble ★ \nThe UK’s most exciting Adam and the Ants tribute band\, also playing songs from Adam Ant’s solo era. Performing all of the the big hits\, awesome album tracks and exciting b-sides from the back catalogue of ant music. \nFeaturing hit songs: ‘Stand & Deliver’\, ‘Antmusic’\, ‘Zerox’\, ‘Prince Charming’\, ‘Kings Of The Wild Frontier’\, ‘Goody Two Shoes’\, ‘Dog Eat Dog’\, ‘Vive Le Rock’\, plus many more… \nCovering both eras of the Ants\, from Punk to Pop! All performed completely live\, giving you the authentic experience in full costume and all the manic energy you’d expect from the dandy highwaymen themselves!
URL:https://bathtoberfest.com/event/ant-trouble-the-royal-oak/
LOCATION:The Royal Oak\, Lower Bristol Rd\, Bath\, BA2 3BW\, United Kingdom
ATTACH;FMTTYPE=image/jpeg:https://bathtoberfest.com/wp-content/uploads/2023/09/ant-trub.jpg
END:VEVENT
BEGIN:VEVENT
DTSTART;TZID=UTC:20230930T200000
DTEND;TZID=UTC:20230930T223000
DTSTAMP:20260423T075408
CREATED:20230927T135636Z
LAST-MODIFIED:20230929T152654Z
UID:10000009-1696104000-1696113000@bathtoberfest.com
SUMMARY:SYSTEM EXCLUSIVE @ The Royal Oak
DESCRIPTION:System Exclusive are Ari Blaisdell and Matt Jones – a Pasadena\, California duo bearing an armful of mini synths and a pocketful of Tarantino-dusted riffs who make heart-throbbing\, capital P pop punch with more than a hint of post-punk. \nBlaisdell’s vocals hearken back to open hearted 80’s hitmakers unafraid to quaver in the name of love\, and they’re buoyed by Jones’ laser-gridded synth concoctions and heavy hand on the ones and twos. \nThe self-titled debut via Castle Face Records has seen the band invited to perform in many new countries as well as lengthy tours across the USA\, the road awaits… \nSystem Exclusive will be embarking on an extensive 22-date UK tour throughout September 2023 including a performance at the prestigious End of the Road Festival.
URL:https://bathtoberfest.com/event/system-exclusive-the-royal-oak/
LOCATION:The Royal Oak\, Lower Bristol Rd\, Bath\, BA2 3BW\, United Kingdom
ATTACH;FMTTYPE=image/jpeg:https://bathtoberfest.com/wp-content/uploads/2023/09/system-ex.jpg
END:VEVENT
BEGIN:VEVENT
DTSTART;TZID=UTC:20230929T203000
DTEND;TZID=UTC:20230929T213000
DTSTAMP:20260423T075408
CREATED:20230927T135242Z
LAST-MODIFIED:20230929T152739Z
UID:10000008-1696019400-1696023000@bathtoberfest.com
SUMMARY:Dani West and the Southernaires @The Royal Oak
DESCRIPTION:Get down to The Royal Oak to experience Dani West and the Southernaires\n\nHotter than a peppered sprout!\nPlaying live Country\, Hearty Honky-tonk and Ballsy Blues.\nTeamed with finger picking guitar licks and a rhythm backline to keep those toes tapping- this is a band you won’t want to miss!\n 
URL:https://bathtoberfest.com/event/dani-west-and-the-southernaires-the-royal-oak/
LOCATION:The Royal Oak\, Lower Bristol Rd\, Bath\, BA2 3BW\, United Kingdom
ATTACH;FMTTYPE=image/jpeg:https://bathtoberfest.com/wp-content/uploads/2023/09/dani-west.jpg
END:VEVENT
END:VCALENDAR