BEGIN:VCALENDAR
VERSION:2.0
PRODID:-//Bathtoberfest - ECPv6.6.4.2//NONSGML v1.0//EN
CALSCALE:GREGORIAN
METHOD:PUBLISH
X-ORIGINAL-URL:https://bathtoberfest.com
X-WR-CALDESC:Events for Bathtoberfest
REFRESH-INTERVAL;VALUE=DURATION:PT1H
X-Robots-Tag:noindex
X-PUBLISHED-TTL:PT1H
BEGIN:VTIMEZONE
TZID:UTC
BEGIN:STANDARD
TZOFFSETFROM:+0000
TZOFFSETTO:+0000
TZNAME:UTC
DTSTART:20230101T000000
END:STANDARD
END:VTIMEZONE
BEGIN:VEVENT
DTSTART;TZID=UTC:20231002T173000
DTEND;TZID=UTC:20231002T183000
DTSTAMP:20260423T061740
CREATED:20231002T141204Z
LAST-MODIFIED:20231002T141204Z
UID:10000021-1696267800-1696271400@bathtoberfest.com
SUMMARY:Blind Beer Tasting With Somer Valley
DESCRIPTION:Head to The Raven to try some tasty new beers from Somer Valley!
URL:https://bathtoberfest.com/event/blind-beer-tasting-with-somer-valley/
LOCATION:The Raven\, 7 Queen Street\,\, Bath\, BA1 1HE\, United Kingdom
ATTACH;FMTTYPE=image/jpeg:https://bathtoberfest.com/wp-content/uploads/2023/10/somer.jpg
END:VEVENT
END:VCALENDAR