BEGIN:VCALENDAR
VERSION:2.0
PRODID:-//Bathtoberfest - ECPv6.6.4.2//NONSGML v1.0//EN
CALSCALE:GREGORIAN
METHOD:PUBLISH
X-ORIGINAL-URL:https://bathtoberfest.com
X-WR-CALDESC:Events for Bathtoberfest
REFRESH-INTERVAL;VALUE=DURATION:PT1H
X-Robots-Tag:noindex
X-PUBLISHED-TTL:PT1H
BEGIN:VTIMEZONE
TZID:UTC
BEGIN:STANDARD
TZOFFSETFROM:+0000
TZOFFSETTO:+0000
TZNAME:UTC
DTSTART:20230101T000000
END:STANDARD
END:VTIMEZONE
BEGIN:VEVENT
DTSTART;TZID=UTC:20231008T153000
DTEND;TZID=UTC:20231008T170000
DTSTAMP:20260423T073434
CREATED:20230926T135701Z
LAST-MODIFIED:20230929T151406Z
UID:10000006-1696779000-1696784400@bathtoberfest.com
SUMMARY:Whisky & Oyster Tasting @ The Grapes
DESCRIPTION:We love a whisky tasting and for this Bathtoberfest we are bringing something special to the city center. Want to drink whisky the way they do on the Scottish isles? They we have you covered with Net & Line on Moorland Road. As Bath’s only fishmonger\, they take pride in bringing fresh\, local and seasonal fish and seafood to the city. \nWe will be pairing the finest whiskies with freshly caught and shucked oysters care of our good friends up the road at Net & Line. They have some wonderful serves as well for you\, really showcasing what this stunning shellfish can do. \nTickets
URL:https://bathtoberfest.com/event/whisky-oyster-tasting/
LOCATION:The Grapes\, 14 Westgate St\, Bath\, BA1 1EQ
ATTACH;FMTTYPE=image/jpeg:https://bathtoberfest.com/wp-content/uploads/2023/09/WHISKY-OYSTER.jpg
END:VEVENT
BEGIN:VEVENT
DTSTART;TZID=UTC:20230930T200000
DTEND;TZID=UTC:20230930T233000
DTSTAMP:20260423T073434
CREATED:20230929T092827Z
LAST-MODIFIED:20230929T092827Z
UID:10000020-1696104000-1696116600@bathtoberfest.com
SUMMARY:Super Dope Drops Of The Chan Clan @ The Grapes
DESCRIPTION:With their record bags packed full of the best beats\, some of Baths best DJs including the incredible Zackie Chan will be playing 8 til late every Saturday night! \nFree entry and NO REQUESTS!
URL:https://bathtoberfest.com/event/super-dope-drops-of-the-chan-clan-the-grapes/
LOCATION:The Grapes\, 14 Westgate St\, Bath\, BA1 1EQ
ATTACH;FMTTYPE=image/jpeg:https://bathtoberfest.com/wp-content/uploads/2023/09/record.jpg
END:VEVENT
END:VCALENDAR