BEGIN:VCALENDAR
VERSION:2.0
PRODID:-//Bathtoberfest - ECPv6.6.4.2//NONSGML v1.0//EN
CALSCALE:GREGORIAN
METHOD:PUBLISH
X-ORIGINAL-URL:https://bathtoberfest.com
X-WR-CALDESC:Events for Bathtoberfest
REFRESH-INTERVAL;VALUE=DURATION:PT1H
X-Robots-Tag:noindex
X-PUBLISHED-TTL:PT1H
BEGIN:VTIMEZONE
TZID:UTC
BEGIN:STANDARD
TZOFFSETFROM:+0000
TZOFFSETTO:+0000
TZNAME:UTC
DTSTART:20230101T000000
END:STANDARD
END:VTIMEZONE
BEGIN:VEVENT
DTSTART;TZID=UTC:20231005T190000
DTEND;TZID=UTC:20231005T203000
DTSTAMP:20260423T064316
CREATED:20230927T134825Z
LAST-MODIFIED:20230929T152335Z
UID:10000007-1696532400-1696537800@bathtoberfest.com
SUMMARY:Cheese And Craft Beer Tasting
DESCRIPTION:Join us for a night of all things cheese and beer! \nWe will be pairing some of the best craft beers in the land with some of our very own local cheeses! This is one that’s not to be missed!!! \nStarts downstairs at kingsmead street bottle at 7pm \nTickets
URL:https://bathtoberfest.com/event/cheese-and-craft-beer-tasting/
LOCATION:Kingsmead Bottle Shop\, 2 Kingsmead St\, Bath\, BA1 2AA\, United Kingdom
ATTACH;FMTTYPE=image/jpeg:https://bathtoberfest.com/wp-content/uploads/2023/09/kingsmead-shop.jpeg
END:VEVENT
BEGIN:VEVENT
DTSTART;VALUE=DATE:20230929
DTEND;VALUE=DATE:20231001
DTSTAMP:20260423T064316
CREATED:20230926T135207Z
LAST-MODIFIED:20230929T085048Z
UID:10000002-1695945600-1696118399@bathtoberfest.com
SUMMARY:Tap Takeover @ Kingsmead Bottle
DESCRIPTION:Bathtoberfest tap takeover including beers from Newbarns Festival Bier\, Donzoko Festbier\, Braybrooke Harvest Festbier\, plus German-inspired food including pretzels and other inspired German food! 
URL:https://bathtoberfest.com/event/tap-takeover/
LOCATION:Kingsmead Bottle Shop\, 2 Kingsmead St\, Bath\, BA1 2AA\, United Kingdom
ATTACH;FMTTYPE=image/jpeg:https://bathtoberfest.com/wp-content/uploads/2023/09/KSBottle.jpeg
END:VEVENT
END:VCALENDAR