BEGIN:VCALENDAR
VERSION:2.0
PRODID:-//Bathtoberfest - ECPv6.6.4.2//NONSGML v1.0//EN
CALSCALE:GREGORIAN
METHOD:PUBLISH
X-ORIGINAL-URL:https://bathtoberfest.com
X-WR-CALDESC:Events for Bathtoberfest
REFRESH-INTERVAL;VALUE=DURATION:PT1H
X-Robots-Tag:noindex
X-PUBLISHED-TTL:PT1H
BEGIN:VTIMEZONE
TZID:UTC
BEGIN:STANDARD
TZOFFSETFROM:+0000
TZOFFSETTO:+0000
TZNAME:UTC
DTSTART:20230101T000000
END:STANDARD
END:VTIMEZONE
BEGIN:VEVENT
DTSTART;TZID=UTC:20230930T143000
DTEND;TZID=UTC:20230930T153000
DTSTAMP:20260423T093504
CREATED:20230927T141606Z
LAST-MODIFIED:20230929T152716Z
UID:10000012-1696084200-1696087800@bathtoberfest.com
SUMMARY:New Bristol Brewery Tasting @ Independent Spirit of Bath
DESCRIPTION:The team from New Bristol have got some fancy things up their sleeves for Christmas which they will be telling us about as well as guiding us through their beers and letting us know all about the story behind the Bristol brewery with the monkeys. \nTickets
URL:https://bathtoberfest.com/event/new-bristol-brewery-tasting-independent-spirit-of-bath/
LOCATION:Independent Spirit\, 7 Terrace Walk\, Bath\, BA11LN\, United Kingdom
ATTACH;FMTTYPE=image/webp:https://bathtoberfest.com/wp-content/uploads/2023/09/newbristolbrewery_480x.webp
END:VEVENT
END:VCALENDAR