BEGIN:VCALENDAR
VERSION:2.0
PRODID:-//Bathtoberfest - ECPv6.6.4.2//NONSGML v1.0//EN
CALSCALE:GREGORIAN
METHOD:PUBLISH
X-WR-CALNAME:Bathtoberfest
X-ORIGINAL-URL:https://bathtoberfest.com
X-WR-CALDESC:Events for Bathtoberfest
REFRESH-INTERVAL;VALUE=DURATION:PT1H
X-Robots-Tag:noindex
X-PUBLISHED-TTL:PT1H
BEGIN:VTIMEZONE
TZID:UTC
BEGIN:STANDARD
TZOFFSETFROM:+0000
TZOFFSETTO:+0000
TZNAME:UTC
DTSTART:20230101T000000
END:STANDARD
END:VTIMEZONE
BEGIN:VEVENT
DTSTART;TZID=UTC:20231008T140000
DTEND;TZID=UTC:20231008T200000
DTSTAMP:20260423T060732
CREATED:20230927T145715Z
LAST-MODIFIED:20230929T152225Z
UID:10000018-1696773600-1696795200@bathtoberfest.com
SUMMARY:Ceylon & Beyond and Tom Stenaford @ Electric Bear
DESCRIPTION:
URL:https://bathtoberfest.com/event/ceylon-beyond-and-tom-stenaford-electric-bear/
LOCATION:Electric Bear\, Unit 12\, The Maltings Industrial Estate\, 7 Brassmill Ln\, Bath\, BA1 3JL\, United Kingdom
ATTACH;FMTTYPE=image/jpeg:https://bathtoberfest.com/wp-content/uploads/2023/09/08-OCTOBER-Ceylon-Beyond-x-Tom-Stenaford_SQ.jpg
END:VEVENT
BEGIN:VEVENT
DTSTART;TZID=UTC:20231007T140000
DTEND;TZID=UTC:20231007T170000
DTSTAMP:20260423T060732
CREATED:20230927T145214Z
LAST-MODIFIED:20230929T152241Z
UID:10000017-1696687200-1696698000@bathtoberfest.com
SUMMARY:Ceylon & Beyond @ Electric Bear
DESCRIPTION:
URL:https://bathtoberfest.com/event/ceylon-beyond-electric-bear/
LOCATION:Electric Bear\, Unit 12\, The Maltings Industrial Estate\, 7 Brassmill Ln\, Bath\, BA1 3JL\, United Kingdom
ATTACH;FMTTYPE=image/jpeg:https://bathtoberfest.com/wp-content/uploads/2023/09/07-OCTOBER-Ceylon-Beyond_SQ.jpg
END:VEVENT
BEGIN:VEVENT
DTSTART;TZID=UTC:20231006T170000
DTEND;TZID=UTC:20231006T220000
DTSTAMP:20260423T060732
CREATED:20230927T145003Z
LAST-MODIFIED:20230929T152316Z
UID:10000016-1696611600-1696629600@bathtoberfest.com
SUMMARY:Ceylon & Beyond and Biggie Snug @ Electric Bear
DESCRIPTION:
URL:https://bathtoberfest.com/event/ceylon-beyond-and-biggie-snug-electric-bear/
LOCATION:Electric Bear\, Unit 12\, The Maltings Industrial Estate\, 7 Brassmill Ln\, Bath\, BA1 3JL\, United Kingdom
ATTACH;FMTTYPE=image/jpeg:https://bathtoberfest.com/wp-content/uploads/2023/09/06-OCTOBER-Ceylon-Beyond-x-BIGGIE-SNUG_SQ.jpg
END:VEVENT
BEGIN:VEVENT
DTSTART;TZID=UTC:20231005T170000
DTEND;TZID=UTC:20231005T220000
DTSTAMP:20260423T060732
CREATED:20230927T144800Z
LAST-MODIFIED:20230929T152604Z
UID:10000015-1696525200-1696543200@bathtoberfest.com
SUMMARY:Ceylon & Beyond and Potty Mouth @ Electric Bear
DESCRIPTION:
URL:https://bathtoberfest.com/event/ceylon-beyond-and-potty-mouth-electric-bear/
LOCATION:Electric Bear\, Unit 12\, The Maltings Industrial Estate\, 7 Brassmill Ln\, Bath\, BA1 3JL\, United Kingdom
ATTACH;FMTTYPE=image/jpeg:https://bathtoberfest.com/wp-content/uploads/2023/09/05-OCTOBER-Ceylon-Beyond-x-Pottymouth_SQ.jpg
END:VEVENT
BEGIN:VEVENT
DTSTART;TZID=UTC:20230929T170000
DTEND;TZID=UTC:20230929T230000
DTSTAMP:20260423T060732
CREATED:20230927T143810Z
LAST-MODIFIED:20230929T152800Z
UID:10000013-1696006800-1696028400@bathtoberfest.com
SUMMARY:Burger Bus and La Nutria @ Electric Bear
DESCRIPTION:
URL:https://bathtoberfest.com/event/burger-bus-and-la-nutria-electric-bear/
LOCATION:Electric Bear\, Unit 12\, The Maltings Industrial Estate\, 7 Brassmill Ln\, Bath\, BA1 3JL\, United Kingdom
ATTACH;FMTTYPE=image/jpeg:https://bathtoberfest.com/wp-content/uploads/2023/09/September-29-Burger-Bus-x-La-Nutria_SQ.jpg
END:VEVENT
END:VCALENDAR